BEGIN:VCALENDAR
VERSION:2.0
PRODID:-//wp-events-plugin.com//7.2.3.1//EN
TZID:Europe/Zurich
X-WR-TIMEZONE:Europe/Zurich
BEGIN:VEVENT
UID:606@lehmhuus.ch
DTSTART;TZID=Europe/Zurich:20260527T093000
DTEND;TZID=Europe/Zurich:20260531T170000
DTSTAMP:20251227T150923Z
URL:https://lehmhuus.ch/events/26123-creative-moldmaking-technique-with-zs
 olt-jozsef-simon/
SUMMARY:26123 - Creative Moldmaking Technique with Zsolt József Simon
DESCRIPTION:Instructor: Zsolt József Simon\n\nZsolt József Simon\,&nbsp\;
  Born in Celldömölk\, Hungary\, in 1973\, Zsolt developed an early passi
 on for porcelain. After training at the Herend Porcelain Manufactory and g
 raduated as a porcelain designer with a masters degree from the Silicate D
 epartment of Moholy-Nagy University of Art and Design\, Budapest\, Hungary
 . In 2006\, he moved to Indonesia\, where he found inspiration in the infi
 nite forces of nature. In 2011\, he founded his studio in the suburbs of B
 udapest\, which quickly became a hub for experimental ceramics. Now he set
 tled in Pécs\, Hungary which place is famous of the heritage of the Zsoln
 ay porcelain.\n\nHe is a freelance artist\, working with his own invented 
 and developed typical technique. The artist\, whose works are in collectio
 ns from the USA to Japan\, also teaching in workshops\, giving lectures wo
 rldwide.\n\nZsolt has participated in numerous national and international 
 solo and group exhibitions\, competitions\, fairs\, symposiums and won sev
 eral awards in Korea\, Italy\, Spain and Hungary.\n\n[ngg src="galleries" 
 ids="53" exclusions="885\,888\,889\,891\,892\,895\,901\,910\,911" display=
 "basic_thumbnail" thumbnail_crop="0"]Suitable for beginners and advanced p
 rticipants (max. 8 people)\n\nWebsite and video Zsolt József Simon: Zsolt
  Jozsef Simon\n\nThe purpose of the workshop is to understand and utilize 
 the opportunities for shaping forms inherent in molding errors. We will le
 arn how to prepare a multi-part plaster molding form\, which allows us to 
 shape the internal and external forms of the final object.\n\nThe workshop
  begins with a screening of projections\, the first part of which consists
  of the presentation of Zsolt József Simon's works\, allowing us to obser
 ve and understand this special molding procedure. The second half of the s
 creening will demonstrate the creation of a specific item from the beginni
 ng to the final stages.\n\nParticipants begin working on their individual 
 plans or based on one of Zsolt's items\, through individual consultation\,
  before everyone starts creating their own plaster form. All participants 
 will create a different form\, allowing us to learn from each other's work
 . We will go through the entire process from mixing the plaster\, sawing\,
  sanding and assembling the plaster form all the way to the porcelain cast
 ing.\n\nRequirement für participation: Good knowledge of working with cla
 y\n&nbsp\;\nBring with you: work cloth\, note-taking materials.\n\nLanguag
 e of instruction: English\n\nIncluded in the price: Material\, clay\, firi
 ng of the ceramiks.\n\nLesen Sie hier die Anmeldebedingungen für Kurse!\n
 \nHier finden Sie Übernachtungsmöglichkeiten in der Nähe.
ATTACH;FMTTYPE=image/jpeg:https://lehmhuus.ch/wp-content/uploads/2025/10/x
 19-zsolt-scaled.jpg
CATEGORIES:Modellierkurse,Spezialkurse - Diverse Themen
LOCATION:LEHMHUUS Töpferschule\, Neuhofweg 50\, Aesch / BL\, 4147\, Schwei
 z
X-APPLE-STRUCTURED-LOCATION;VALUE=URI;X-ADDRESS=Neuhofweg 50\, Aesch / BL\,
  4147\, Schweiz;X-APPLE-RADIUS=100;X-TITLE=LEHMHUUS Töpferschule:geo:0,0
END:VEVENT
BEGIN:VTIMEZONE
TZID:Europe/Zurich
X-LIC-LOCATION:Europe/Zurich
BEGIN:DAYLIGHT
DTSTART:20260329T030000
TZOFFSETFROM:+0100
TZOFFSETTO:+0200
TZNAME:CEST
END:DAYLIGHT
END:VTIMEZONE
END:VCALENDAR