BEGIN:VCALENDAR
VERSION:2.0
PRODID:-//wp-events-plugin.com//7.2.3.1//EN
TZID:Europe/Zurich
X-WR-TIMEZONE:Europe/Zurich
BEGIN:VEVENT
UID:599@lehmhuus.ch
DTSTART;TZID=Europe/Zurich:20260424T100000
DTEND;TZID=Europe/Zurich:20260426T170000
DTSTAMP:20251022T143443Z
URL:https://lehmhuus.ch/events/26124-auf-den-sockel-gehoben-tierfiguren-au
 s-platten-mit-ute-naue-mueller/
SUMMARY:26124 - "Auf den Sockel gehoben" Tierfiguren aus Platten mit Ute Na
 ue-Müller
DESCRIPTION:Ihre Kursleiterin: Ute Naue Müller\n\nUte Naue-Müller studier
 te von 1979 bis 1984 Verfahrenstechnik an der TU Dresden und schloss das S
 tudium mit Diplom ab. Nach der Geburt ihrer drei Kinder studierte sie von 
 1997 bis 2001 Kunsterziehung und Germanistik an der TU Dresden sowie paral
 lel von 1998 bis 1999 Malerei und Grafik an der HfBK Dresden. Ab 2003 bega
 nn sie als freie Künstlerin mit Keramik zu arbeiten. Sie nimmt im In- und
  Ausland seit Jahren an Ausstellungen teil. Ihre Arbeiten sind in diversen
  Sammlungen vertreten\, unter anderem in Taipei County Yingge-Ceramics Mus
 eum inTaiwan\, Internationales Keramikmuseum Fuping–Xian in China. Sowie
  in Deutschland in staatlichen Kunstsammlungen und Kunstgewerbemuseum Dres
 den\, „Keramion“ Zentrum für moderne und historische Keramik Frechen\
 , Keramikmuseum Westerwald und dem Hetjes-Museum Düsseldorf.\n\n[ngg src=
 "galleries" ids="20" exclusions="266\,259\,265\,264\,262\,260\,261\,263\,2
 22\,210\,223\,209\,211\,214\,215\,216\,217\,218\,219\,220\,221\,213\,304\,
 305\,306\,307\,202\,203\,204\,205\,206\,207\,208\,393\,506\,507\,508\,509\
 ,510\,511\,512\,513\,514\,515\,516\,517\,518\,519\,520\,505\,504\,503\,502
 \,501\,500\,499\,498\,497\,496\,495\,494\,493\,492\,491\,490" sortorder="1
 42\,139\,140\,134\,132\,136\,137\,138\,143\,133\,141\,135\,266\,259\,265\,
 264\,262\,260\,261\,263\,222\,210\,223\,209\,211\,214\,215\,216\,217\,218\
 ,219\,220\,221\,213\,304\,305\,306\,307\,202\,203\,204\,205\,206\,207\,208
 \,393" display="basic_thumbnail" thumbnail_crop="0"]Geeignet für Anfänge
 r und Fortgeschrittene (max. 8 Personen)\n\nVideo Ute Naue-Müller:&nbsp\;
 https://www.youtube.com/watch?v=_dv8nVJwxk8\n\nDie Möglichkeiten der Anwe
 ndung plastischer Tonplatten sind für den Keramiker umfangreich. So finde
 n sie Verwendung bei\nder Herstellung von Gefässen\, Schalen\, Objekten\,
  Kachelöfen und Figuren.\n\nDie Verarbeitung dieser Platten bei Figuren h
 at einen besonderen Reiz: einfache und komplizierte Formen können durch m
 ehr oder weniger gekrümmte Flächen gebildet werden. Anders als bei der F
 ormgebung des plastischen Aufbaus wird eine Art 2-dimensionale „Haut“ 
 zur Figur zusammengebaut\, ähnlich dem Konstruktionsprinzip von Architekt
 en. Dadurch ist eine starke Abstraktion der Formen und ein Spiel mit der 2
 - und 3-Dimensionalität möglich. Ausserdem können die eher flachen Ober
 flächen der gebildeten Figuren eine starke Gestaltung erfahren\, ohne auf
 dringlich oder kitschig zu wirken.\n\nNeben der Figur hat der Sockel\, auf
  dem diese installiert ist\, verschiedene Funktionen: statische\, informat
 ive und gestalterische. Funktional ist der Sockel wichtig für die Figur a
 ls statisches Fundament. Gleichzeitig kann er durch Schrift und andere Zei
 chen als Informationsträger dienen\, wenn man an historische Sockel der K
 unstgeschichte erinnert. Und nicht zuletzt kann der Sockel durch seine Pro
 portion zur Figur und seine grafische und farbige Gestaltung selber wichti
 g sein.\n\nEin Workshop zur Anregung der Phantasie\, der Verbesserung der 
 handwerklichen Fertigkeiten beim Umgang mit Tonplatten und der Gestaltung 
 von Figuren.\n\nMitbringen: Arbeitskleidung\, Notizmaterial\, ggf. eigene 
 Ideenskizzen.\n\nUnterrichtssprache: Deutsch\n\nIm Preis inbegriffen: Ton\
 , Glasurfarben\, Material\, Rohbrennen\, Einbrandverfahren der Arbeiten.\n
 Lesen Sie hier die Anmeldebedingungen für Kurse!\nHier finden Sie Überna
 chtungsmöglichkeiten in der Nähe.
ATTACH;FMTTYPE=image/jpeg:https://lehmhuus.ch/wp-content/uploads/2022/10/S
 ockel-Tierfiguren9.jpg
CATEGORIES:Spezialkurse - Diverse Themen
LOCATION:LEHMHUUS Töpferschule\, Neuhofweg 50\, Aesch / BL\, 4147\, Schwei
 z
X-APPLE-STRUCTURED-LOCATION;VALUE=URI;X-ADDRESS=Neuhofweg 50\, Aesch / BL\,
  4147\, Schweiz;X-APPLE-RADIUS=100;X-TITLE=LEHMHUUS Töpferschule:geo:0,0
END:VEVENT
BEGIN:VTIMEZONE
TZID:Europe/Zurich
X-LIC-LOCATION:Europe/Zurich
BEGIN:DAYLIGHT
DTSTART:20260329T030000
TZOFFSETFROM:+0100
TZOFFSETTO:+0200
TZNAME:CEST
END:DAYLIGHT
END:VTIMEZONE
END:VCALENDAR