BEGIN:VCALENDAR
VERSION:2.0
PRODID:-//wp-events-plugin.com//7.2.3.1//EN
TZID:Europe/Zurich
X-WR-TIMEZONE:Europe/Zurich
BEGIN:VEVENT
UID:539@lehmhuus.ch
DTSTART;TZID=Europe/Zurich:20260427T093000
DTEND;TZID=Europe/Zurich:20260429T170000
DTSTAMP:20251203T093016Z
URL:https://lehmhuus.ch/events/26132-3-tage-drehen-an-der-toepferscheibe-m
 it-sandra-gaiser/
SUMMARY:26132 - 3 Tage Drehen an der Töpferscheibe mit Sandra Gaiser
DESCRIPTION:Ihre Kursleiterin: Sandra Gaiser\n\nAls ausgebildete Grafikgest
 alterin befasst sich Sandra Gaiser seit mehr als 25 Jahren mit Keramik. In
 sbesondere hat sie sich intensiv mit Steinzeug und Porzellan und dessen Ob
 erflächengestaltung\, auch auf gedrehten Arbeiten befasst.\n\n[ngg src="g
 alleries" ids="27" exclusions="671\,653\,652\,649\,672\,650\,666\,651\,654
 \,657\,670\,669\,668\,667\,665\,664\,663\,662\,661\,660\,659\,658\,253\,65
 6\,655\,340\,339\,258\,257\,256\,255\,254\,806\,804\,949\,950\,951\,952\,9
 53\,954\,955\,956\,957\,958\,959" sortorder="671\,653\,652\,649\,672\,650\
 ,666\,651\,654\,657\,670\,669\,668\,667\,665\,664\,663\,662\,661\,660\,659
 \,658\,253\,656\,655\,340\,339\,258\,257\,256\,255\,254\,806\,801\,803\,80
 5\,804\,802" display="basic_thumbnail" thumbnail_crop="0"]Geeignet für An
 fänger (max. 7 Personen)\n\nEin 3 Tages-Intensivkurs für Einsteiger\, Be
 ginner die durchstarten wollen.\nDrehen und Abdrehen auf der elektrischen 
 Scheibe fasziniert immer wieder und gehört zur täglichen Arbeit der Töp
 fer*innen und Keramiker*innen. Sandra Gaiser zeigt die Tonvorbereitung vor
  dem Drehen\, lernt den Teilnehmenden von Grund auf das Drehen und gibt An
 weisungen wie z. B. gleichmässige Wandstärken von Zylindern\, Bechern\, 
 Schalen erreicht werden oder wie proportional schöne Form gedreht werden.
  Mit fachkundiger Hand führt Sandra Gaiser vor\, gibt exakte Arbeitsanwei
 sungen und führt so die Teilnehmenden zu ihren gewünschten Zielen.\n\nPr
 o Person steht eine elektrische Töpferscheibe zur Verfügung. Gearbeitet 
 wird mit verschiedenen Tonen und unterschiedlichen Töpferscheiben\, um ei
 ne vom Material unabhängige Fertigkeit zu erlangen.\n\nMitbringen: Arbeit
 skleidung\, Notizmaterial.\n\nUnterrichtssprache: Deutsch\n\nIm Preis inbe
 griffen: Material\, Ton\, Rohbrennen der Arbeiten.\n\nLesen Sie hier die A
 nmeldebedingungen für Kurse!\n\nHier finden Sie Übernachtungsmöglichkei
 ten in der Nähe.
ATTACH;FMTTYPE=image/jpeg:https://lehmhuus.ch/wp-content/uploads/2024/05/S
 andra_Gaiser_drehen.jpg
CATEGORIES:Drehkurse
LOCATION:LEHMHUUS Töpferschule\, Neuhofweg 50\, Aesch / BL\, 4147\, Schwei
 z
X-APPLE-STRUCTURED-LOCATION;VALUE=URI;X-ADDRESS=Neuhofweg 50\, Aesch / BL\,
  4147\, Schweiz;X-APPLE-RADIUS=100;X-TITLE=LEHMHUUS Töpferschule:geo:0,0
END:VEVENT
BEGIN:VTIMEZONE
TZID:Europe/Zurich
X-LIC-LOCATION:Europe/Zurich
BEGIN:DAYLIGHT
DTSTART:20260329T030000
TZOFFSETFROM:+0100
TZOFFSETTO:+0200
TZNAME:CEST
END:DAYLIGHT
END:VTIMEZONE
END:VCALENDAR