BEGIN:VCALENDAR
VERSION:2.0
PRODID:-//wp-events-plugin.com//7.2.3.1//EN
TZID:Europe/Zurich
X-WR-TIMEZONE:Europe/Zurich
BEGIN:VEVENT
UID:548@lehmhuus.ch
DTSTART;TZID=Europe/Zurich:20260425T093000
DTEND;TZID=Europe/Zurich:20260426T170000
DTSTAMP:20250911T052312Z
URL:https://lehmhuus.ch/events/26134-handaufbau-mit-spezieller-wulsttechni
 k-mit-zsuzsa-fuezesi/
SUMMARY:26134 - Handaufbau mit spezieller Wulsttechnik mit Zsuzsa Füzesi
DESCRIPTION:Ihre Kursleiterin: Zsuzsa Füzesi\n\nZsuzsa Füzesi geboren in 
 Ungarn\, lebt und arbeitet in Basel. Sie absolvierte ihre Keramikausbildun
 g an der Keramik- Fakultät in Pécs. Danach Arbeiten in einer Keramikmanu
 faktur\, Diplom Auszeichnung an der Akademie für Kunstgewerbe bei Prof. I
 mre Schrammel. 2008 Doktorarbeit „Materialgerechtigkeit - Materialgefüh
 l“ abgeschlossen als „Doctor of Liberal Arts“. Zsuzsa Füzesi ist Mi
 tglied bei der ungarischen Künstlergruppe TERRA und dem schweizerischen K
 eramikverbands ASK. Zsuzsas Arbeiten sind in einigen öffentlichen Sammlun
 gen vertreten\, sie wurde mit diversen Auszeichnungen geehrt.\n\n\nGeeigne
 t für Anfänger und Fortgeschrittene (max. 7 Personen)\n\nDie Wulsttechni
 k ist die älteste und archaischste Technik Gefäße aufzubauen. Über Jah
 rhunderte wurde diese Art des Gefässformens in allen Kulturen kultiviert.
  Zsuzsa baut ihre Objekte ausschliesslich mit der ursprünglich gelernten 
 Wulsttechnik (die Wülste aufeinander legen und zusammen verstreichen) auf
 . Sie entwickelte für sich eine spezielle Handbewegung\, um die Tonwulstw
 and zusammenzuziehen und zu homogenisieren\, mit dieser Handbewegung ist e
 s ihr möglich\, eine regelmässige Wandstärke zu erreichen und die Form 
 zu gestalten. Mit dieser speziellen Wulsttechnik erreicht man beim Gestalt
 en eine vollkommene Freiheit. Ohne Hilfsmittel und Werkzeuge lassen sich O
 bjekte in jeder erdenklichen Form aufbauen.\nMit unseren Händen zu arbeit
 en vermittelt auch Glücksgefühle. Der Ton ermöglicht ein konkretes Erke
 nnen durch die Sinne.\nKein anderer Werkstoff kann dieses Gefühl vermitte
 ln.\n\nMitbringen: Arbeitskleidung\, Notizmaterial.\n\nUnterrichtssprache:
  Deutsch\n\nIm Preis inbegriffen: Material\, Ton\, Rohbrennen der Arbeiten
 .\n\nLesen Sie hier die Anmeldebedingungen für Kurse!\n\nHier finden Sie 
 Übernachtungsmöglichkeiten in der Nähe.
ATTACH;FMTTYPE=image/jpeg:https://lehmhuus.ch/wp-content/uploads/2022/10/K
 ursHandaufbau-Wulsttechnik-1-1.jpg
CATEGORIES:Modellierkurse,Spezialkurse - Diverse Themen
LOCATION:LEHMHUUS Töpferschule\, Neuhofweg 50\, Aesch / BL\, 4147\, Schwei
 z
X-APPLE-STRUCTURED-LOCATION;VALUE=URI;X-ADDRESS=Neuhofweg 50\, Aesch / BL\,
  4147\, Schweiz;X-APPLE-RADIUS=100;X-TITLE=LEHMHUUS Töpferschule:geo:0,0
END:VEVENT
BEGIN:VTIMEZONE
TZID:Europe/Zurich
X-LIC-LOCATION:Europe/Zurich
BEGIN:DAYLIGHT
DTSTART:20260329T030000
TZOFFSETFROM:+0100
TZOFFSETTO:+0200
TZNAME:CEST
END:DAYLIGHT
END:VTIMEZONE
END:VCALENDAR