BEGIN:VCALENDAR
VERSION:2.0
PRODID:-//wp-events-plugin.com//7.2.3.1//EN
TZID:Europe/Zurich
X-WR-TIMEZONE:Europe/Zurich
BEGIN:VEVENT
UID:544@lehmhuus.ch
DTSTART;TZID=Europe/Zurich:20260618T093000
DTEND;TZID=Europe/Zurich:20260621T170000
DTSTAMP:20250910T131009Z
URL:https://lehmhuus.ch/events/26144-die-fraktale-handaufbau-in-perfektion
 -mit-zsuzsa-fuezesi/
SUMMARY:26144 - Die Fraktale\, Handaufbau in Perfektion mit Zsuzsa Füzesi
DESCRIPTION:Ihre Kursleiterin: Zsuzsa Füzesi\n\nZsuzsa Füzesi geboren in 
 Ungarn\, lebt und arbeitet in Basel. Sie absolvierte ihre Keramikausbildun
 g an der Keramik- Fakultät in Pécs. Danach Arbeiten in einer Keramikmanu
 faktur\, Diplom Auszeichnung an der Akademie für Kunstgewerbe bei Prof. I
 mre Schrammel. 2008 Doktorarbeit „Materialgerechtigkeit - Materialgefüh
 l“ abgeschlossen als „Doctor of Liberal Arts“. Zsuzsa Füzesi ist Mi
 tglied bei der ungarischen Künstlergruppe TERRA und dem schweizerischen K
 eramikverbands ASK. Zsuzsas Arbeiten sind in einigen öffentlichen Sammlun
 gen vertreten\, sie wurde mit diversen Auszeichnungen geehrt.\n\n[ngg src=
 "galleries" ids="10" exclusions="70\,71\,72\,73\,123" sortorder="150\,145\
 ,147\,144\,146\,149\,148\,74\,70\,71\,72\,73\,123" display="basic_thumbnai
 l" thumbnail_crop="0"]Geeignet für Fortgeschrittene (max. 6 Personen)\n\n
 Die Fraktale\, Thema: Raum - und - Materie\n\nEin Fraktal ist eine geometr
 ische Form\, die in Teile unterteiltwerden kann\, von denen jedes eine Art
  verkleinerte Kopie des gesamten Musters ist. Eine Eigenschaft namens Selb
 stähnlichkeit. Systeme\, deren Aufbau den Wachstumsprinzipien der Natur g
 ehorchen\, sind Fraktalen die sich besonders zum Gestalten mit Ton eignen.
  Bei dieser Arbeitsweise arbeitet man mit dem Prinzip der Iteration\, d.h.
  des Prinzips\, immer neu dieselbe Operation auszuführen. Damit lässt si
 ch eine Vielfalt komplexer\, organischer und scheinbar frei gewachsener Fo
 rmen beschreiben. Obwohl alle Formen im System identisch sind\, entstehen 
 unterschiedliche Objekte!\n\nDie gleichmässigen\, dünnen Wände und leer
 e Räume mit den geflochtenen Verbindungen schaffen einen Eindruck der Fra
 gilität. Aber - wie bei Pflanzen und anderen Lebewesen\, stehen sie mit i
 hrer statischen Konstruktion sicherer\, als vordergründig stabil wirkende
 \, dickwandige und eckige Tonobjekt\, da. Bei dieser Aufbautechnik hat man
  beim Trocknen und Brennen kaum technische Probleme.\n\nMit dem Fraktalen 
 System baut Zsuzsa Füzesi selbst Ihre extrem heiklen Porzellan-Arbeiten/O
 bjekte auf.\n\nVoraussetzungen für den Kurs: gute Kenntnisse in der Aufba
 utechnik.\n\nMitbringen: Arbeitskleidung\, Notizmaterial.\n\nUnterrichtssp
 rache: Deutsch\n\nIm Preis inbegriffen: Material\, Ton\, Rohbrennen der Ar
 beiten.\n\nLesen Sie hier die Anmeldebedingungen für Kurse!\n\nHier finde
 n Sie die Übernachtungsmöglichkeiten in der Nähe
ATTACH;FMTTYPE=image/jpeg:https://lehmhuus.ch/wp-content/uploads/2022/06/F
 raktale_Welten2.jpg
CATEGORIES:Modellierkurse,Spezialkurse - Diverse Themen
LOCATION:LEHMHUUS Töpferschule\, Neuhofweg 50\, Aesch / BL\, 4147\, Schwei
 z
X-APPLE-STRUCTURED-LOCATION;VALUE=URI;X-ADDRESS=Neuhofweg 50\, Aesch / BL\,
  4147\, Schweiz;X-APPLE-RADIUS=100;X-TITLE=LEHMHUUS Töpferschule:geo:0,0
END:VEVENT
BEGIN:VTIMEZONE
TZID:Europe/Zurich
X-LIC-LOCATION:Europe/Zurich
BEGIN:DAYLIGHT
DTSTART:20260329T030000
TZOFFSETFROM:+0100
TZOFFSETTO:+0200
TZNAME:CEST
END:DAYLIGHT
END:VTIMEZONE
END:VCALENDAR