BEGIN:VCALENDAR
VERSION:2.0
PRODID:-//wp-events-plugin.com//7.2.3.1//EN
TZID:Europe/Zurich
X-WR-TIMEZONE:Europe/Zurich
BEGIN:VEVENT
UID:582@lehmhuus.ch
DTSTART;TZID=Europe/Zurich:20260626T093000
DTEND;TZID=Europe/Zurich:20260628T170000
DTSTAMP:20251001T060359Z
URL:https://lehmhuus.ch/events/26146-3-tage-raku-brennkurs-mit-andreas-rue
 hrnschopf/
SUMMARY:26146 - 3 Tage RAKU Brennkurs mit Andreas Rührnschopf
DESCRIPTION:Ihr Kursleiter: Andreas Rührnschopf\n\nAndreas Rührnschopf ab
 solvierte seine Keramikausbildung in Altstätten im Allgäu und an der Sta
 atlichen Fachschule für Keramik in Landshut\, 1996 Meisterprüfung zum Ke
 ramikmeister. Nach der Ausbildung zum Keramiker arbeitete Andreas in Antro
 posophischen Einrichtungen mit geistig behinderten Menschen mit Ton. Seit 
 1991 eigene Werkstatt mit Schwerpunkt Gebrauchsgeschirr und Kachelöfen in
  Holzen bei Kandern. Andreas Rührnschopf hat an zahlreichen Ausstellungen
  vor allem im Raum Basel teilgenommen.\n\n[ngg src="galleries" ids="6" exc
 lusions="43\,390\,42\,389\,388\,387\,386\,385\,384\,361\,360\,359\,358\,35
 7\,224\,182\,181\,180\,179\,178\,177\,591\,590\,589\,588\,587\,586\,585\,5
 84\,583\,582\,581\,580\,579\,578\,408\,407\,406\,405\,404\,403\,402\,401\,
 400\,399\,398" sortorder="187\,189\,188\,43\,390\,42\,389\,388\,387\,386\,
 385\,384\,361\,360\,359\,358\,357\,224\,182\,181\,180\,179\,178\,177" disp
 lay="basic_thumbnail" thumbnail_crop="0"]Geeignet für Anfänger und Fortg
 eschrittene (max. 7 Personen)\n\n3-Tage RAKU Brennkurs\, ein Kurs für Tei
 lnehmer\, die Ihre Arbeiten in der faszinierenden RAKU- Technik brennen wo
 llen und die verschiedenen Facetten des RAKU kennen lernen möchten. In di
 esem Kurs werden die Grundlagen des Rakubrennens\, mit speziellen RAKU Pul
 verglasuren\, dem Kupfermatt\, das Brennen ohne Rauch „Rosshaar-Dekorzei
 chnungen“ (dazu sollte die Tonoberfläche\npoliert sein) und Streichglas
 uren aufgezeigt und angewendet.\n\n1. Kurstag 9.30 - ca. 17.00 Uhr (mit ku
 rzer Mittagspause). Einführung in RAKU\, Gasofen- und Brandbesprechung\, 
 Glasieren der Arbeiten\, am Nachmittag werden die ersten Arbeiten gebrannt
 .\n2. Kurstag 9.30 - ca. 17.00 Uhr (mit kurzer Mittagspause). Weiteres Gla
 sieren und den ganzen Tag Rakubrennen.\n3. Kurstag 9.30 - ca. 16.00 Uhr (m
 it kurzer Mittagspause).Restliche Arbeiten werden glasiert\, ganzer Tag Ra
 kubrennen\, Schlussbesprechung.\n\nMitzubringen: ca. 13-15 Rohgebrannte Ar
 beiten aus RAKU Ton\, für gute Glasur- und Brennergebnisse empfehlen wir 
 folgende Tone: Potclay 1161Y\, G&amp\;S-Nr. 474 und 480\, Earthstone V40 u
 nd Ashraf Hanna Clay PF 520\, Witgert 11sg-3\noder andere geeignet Rakuton
 e.\n\nGrösse und Anzahl der Arbeiten: Grösse max. Höhe 36 cm\, Breite 3
 6 cm\, Tiefe 28 cm. Wir können ca. 90 Arbeiten brennen\n(je nach Grösse\
 , etwas mehr oder weniger) Das heisst pro Person ca. 13-15 Arbeiten.\n\nIm
  Preis inbegriffen: Material\, Glasuren\, Raku Brennen der Arbeiten.\n\nLe
 sen Sie hier die Anmeldebedingungen für Kurse!\n\nHier finden Sie Überna
 chtungsmöglichkeiten in der Nähe.
ATTACH;FMTTYPE=image/jpeg:https://lehmhuus.ch/wp-content/uploads/2022/08/3
 -Tage-Raku.jpg
CATEGORIES:RAKU/Niederbrandkurse
LOCATION:LEHMHUUS Töpferschule\, Neuhofweg 50\, Aesch / BL\, 4147\, Schwei
 z
X-APPLE-STRUCTURED-LOCATION;VALUE=URI;X-ADDRESS=Neuhofweg 50\, Aesch / BL\,
  4147\, Schweiz;X-APPLE-RADIUS=100;X-TITLE=LEHMHUUS Töpferschule:geo:0,0
END:VEVENT
BEGIN:VTIMEZONE
TZID:Europe/Zurich
X-LIC-LOCATION:Europe/Zurich
BEGIN:DAYLIGHT
DTSTART:20260329T030000
TZOFFSETFROM:+0100
TZOFFSETTO:+0200
TZNAME:CEST
END:DAYLIGHT
END:VTIMEZONE
END:VCALENDAR