BEGIN:VCALENDAR
VERSION:2.0
PRODID:-//wp-events-plugin.com//7.2.3.1//EN
TZID:Europe/Zurich
X-WR-TIMEZONE:Europe/Zurich
BEGIN:VEVENT
UID:565@lehmhuus.ch
DTSTART;TZID=Europe/Zurich:20261113T093000
DTEND;TZID=Europe/Zurich:20261115T170000
DTSTAMP:20250918T083045Z
URL:https://lehmhuus.ch/events/26185-mond-vase-mit-kiho-kang/
SUMMARY:26185 - Mond Vase mit Kiho Kang
DESCRIPTION:Ihr Kursleiter: Kiho Kang\n\nKiho Kang studierte von 1999 bis 2
 006 an der Kookmin Universität in Seoul mit dem Abschluss als BFA und von
  2007 bis 2010 macht er dort noch seinen MFA. Von 2011 bis 2014\, Studium 
 am Institut für Künstlerische Keramik und Glas der Hochschule Koblenz in
  Höhr-Grenzhausen. Das Studienjahr 2011 führte ihn an die Kunstuniversit
 ät in Linz. Inzwischen hat er auch seinen deutschen MFA mit Bravour abgel
 egt. Während seines künstlerischen Lebens in Deutschland erhielt Kiho Ka
 ng zahlreiche Preise wie Frechener Keramikpreis 2012\, Richard Bampi Preis
  2013\, Justus Brinckmann Preis 2013\, Bayerischer Staats Preis 2012 und 2
 014\, den Diessener Preis 2015\, sowie Belobigungen und Stipendien.\n\n[ng
 g src="galleries" ids="12" exclusions="80\,79\,78\,81" sortorder="80\,79\,
 78\,81" display="basic_thumbnail" thumbnail_crop="0"]Geeignet für Anfäng
 er und Fortgeschrittene (max. 8 Personen)\n\nVideo Studio Kiho Kang:&nbsp\
 ;https://www.youtube.com/watch?v=RPSW6kzygUs\n\nDie Wulsttechnik ist die 
 älteste und archaischste Technik Gefässe aufzubauen. Über Jahrhunderte 
 wurde diese Art des Gefässformens in allen Kulturen kultiviert. Die hapti
 sche Qualität und Leichtigkeit der Gefässe wird für Kursteilnehmer\, di
 e gerne von Hand aufbauen\, Inspiration zur Verfeinerung der eigenen Arbei
 ten sein.\n\nMondvasen wurden traditionell im 17. Und 18. Jahrhundert herg
 estellt und stehen exemplarisch für die Merkmale der traditionellen korea
 nischen Keramik. Die Mondvase symbolisiert die Ideale von Schlichtheit\, E
 infachheit und Bescheidenheit. Die natürliche äussere Linienführung hat
  eine poetische Schönheit und kann bei dieser rundlichen Form sogar mensc
 hliche Wärme finden. Die Wulsttechnik ist die perfekte Technik\, um Monva
 sen aufzubauen\, weil auf diese Weise beim plastischen Formen Bewusstes au
 f Unbewusstes trifft und sich als Verwirklichung der Persönlichkeit im We
 rk zum Ausdruck bringen lässt.\n\nKiho Kang hat seine eigene ganz speziel
 le Arbeitsweise entwickelt. Auch die Porzellanmasse\, die er für seine Ar
 beiten nutzt\, hat er über viele Jahre selbst entwickelt und immer weiter
  verfeinert.\n\nUnterrichtssprache: Deutsch\n\nMitbringen: Arbeitskleidung
 \, Notizmaterial\n\nIm Preis inbegriffen: Material\, Ton\, Rohbrennen der 
 Arbeiten.\n\nLesen Sie hier die Anmeldebedingungen für Kurse!\n\nHier fin
 den Sie Übernachtungsmöglichkeiten in der Nähe.
ATTACH;FMTTYPE=image/jpeg:https://lehmhuus.ch/wp-content/uploads/2022/10/M
 oonjar2.jpg
CATEGORIES:Spezialkurse - Diverse Themen
LOCATION:LEHMHUUS Töpferschule\, Neuhofweg 50\, Aesch / BL\, 4147\, Schwei
 z
X-APPLE-STRUCTURED-LOCATION;VALUE=URI;X-ADDRESS=Neuhofweg 50\, Aesch / BL\,
  4147\, Schweiz;X-APPLE-RADIUS=100;X-TITLE=LEHMHUUS Töpferschule:geo:0,0
END:VEVENT
BEGIN:VTIMEZONE
TZID:Europe/Zurich
X-LIC-LOCATION:Europe/Zurich
BEGIN:STANDARD
DTSTART:20261025T020000
TZOFFSETFROM:+0200
TZOFFSETTO:+0100
TZNAME:CET
END:STANDARD
END:VTIMEZONE
END:VCALENDAR