BEGIN:VCALENDAR
VERSION:2.0
PRODID:-//wp-events-plugin.com//7.2.3.1//EN
TZID:Europe/Zurich
X-WR-TIMEZONE:Europe/Zurich
BEGIN:VEVENT
UID:621@lehmhuus.ch
DTSTART;TZID=Europe/Zurich:20261204T093000
DTEND;TZID=Europe/Zurich:20261206T170000
DTSTAMP:20260417T130505Z
URL:https://lehmhuus.ch/events/26189-glasurkurs-rosa-lila-violett-im-hochb
 rand-mit-grit-uhlemann/
SUMMARY:26189 - Glasurkurs Rosa\, Lila\, Violett im Hochbrand mit Grit Uhle
 mann
DESCRIPTION:Ihre Kursleiterin: Grit Uhlemann\n\nGrit Uhemann hat in Irland 
 Kunst studiert und Ihren Fokus auf „Skulptur und kombinierte Medien“ g
 elegt. Nach Ihrer Rückkehr nach Deutschland absolvierte Sie in Höhr-Gren
 zhausen erfolgreich die Ausbildung als Keramikgestalterin und legte in die
 sem Jahr die Meisterprüfung ab. Seit 2018 ist Sie auch Teil der Keramikgr
 uppe „Ceramix“ in Höhr-Grenzhausen und hat die Ausbildung zur Keramik
 technikerin erfolgreich abgeschlossen. Sie hatte bereits Ausstellungen in 
 Höhr-Grenzhausen\, Koblenz\, Gmunden\, Carouge und Sarreguimines. Des Wei
 teren ist Sie Vorsitzende des deutschen Keramikvereins „Kalkspatz“.\n\
 n[ngg src="galleries" ids="29" exclusions="333\,335\,332\,334\,392\,624\,6
 99\,700\,701\,702\,703\,704\,705\,706\,707\,708\,709\,710\,711\,712\,713\,
 714\,715\,716\,717\,872\,873\,874\,875\,876\,877\,878\,879\,880\,881\,882"
  sortorder="333\,335\,332\,334\,392\,624\,699\,700\,701\,702\,703\,704\,70
 5\,706\,707\,708\,709\,710\,711\,712\,713\,714\,715\,716\,717\,872\,873\,8
 74\,875\,876\,877\,878\,879\,880\,881\,882\,989\,988\,990\,991\,992" displ
 ay="basic_thumbnail" thumbnail_crop="0"]Geeignet für Anfänger und Fortge
 schrittene (max. 8 Personen)\n\nVideo über Grit: The Shape of Light: Cera
 mic Artists of Höhr-Grenzhausen\n\nRosa- und Lilatöne sind im Hochbrand 
 schwierig herzustellen\, da die Farbkörper bei dieser Temperatur wegbrenn
 en. Deshalb ist die Palette im Hochbrand weniger vielfältig. Dieser Kurs 
 zeigt\, wie man kreativ eine grössere Auswahl an rosa bis violett Farbtö
 nen erreichen kann. Diese wird durch seltene Erden noch erweitert. Was fü
 r Rohstoffe ergeben welche Glasurtypen? Welche besonderen Eigenschaften ha
 ben sie? Theorie wird auch mit dabei sein.\n\nJeden Abend wird bei 1240°C
  gebrannt. Die Ergebnisse werden am nächsten Tag ausgewertet. Ein Worksho
 p für alle - ob Keramikkünstler*innen\, Profis\, Lehrer* innen\, Therape
 ut*innen oder Beginner*innen\, die Spass am Entwickeln von eigenen Glasure
 n haben.\n\nMitbringen: 35-40 rohgebrannte Musterplättchen L 8cm x B 3cm.
  Die Musterplättchen\, wenn möglich Steinzeugton aus der eigenen Werksta
 tt\, aus hellbrennendem Steinzeugton mit mind. Brenntemperatur 1240°C. Un
 sere Empfehlung G&amp\;S Ton Nr. 254 und Witgert Ton Nr. 116.\n\nUnterrich
 tssprache: Deutsch\n\nIm Preis inbegriffen: Material\, Glasurrohstoffe\, B
 rennen der Arbeiten.\n\nLesen Sie hier die Anmeldebedingungen für Kurse!\
 n\nHier finden Sie Übernachtungsmöglichkeiten in der Nähe.
ATTACH;FMTTYPE=image/jpeg:https://lehmhuus.ch/wp-content/uploads/2025/12/x
 22-Rosa-Pink-Grit.jpg
CATEGORIES:Keramische Oberflächenkurse,Töpferkurse
LOCATION:LEHMHUUS Töpferschule\, Neuhofweg 50\, Aesch / BL\, 4147\, Schwei
 z
X-APPLE-STRUCTURED-LOCATION;VALUE=URI;X-ADDRESS=Neuhofweg 50\, Aesch / BL\,
  4147\, Schweiz;X-APPLE-RADIUS=100;X-TITLE=LEHMHUUS Töpferschule:geo:0,0
END:VEVENT
BEGIN:VTIMEZONE
TZID:Europe/Zurich
X-LIC-LOCATION:Europe/Zurich
BEGIN:STANDARD
DTSTART:20261025T020000
TZOFFSETFROM:+0200
TZOFFSETTO:+0100
TZNAME:CET
END:STANDARD
END:VTIMEZONE
END:VCALENDAR