BEGIN:VCALENDAR
VERSION:2.0
PRODID:-//wp-events-plugin.com//7.2.3.1//EN
TZID:Europe/Zurich
X-WR-TIMEZONE:Europe/Zurich
BEGIN:VEVENT
UID:571@lehmhuus.ch
DTSTART;TZID=Europe/Zurich:20261218T093000
DTEND;TZID=Europe/Zurich:20261220T170000
DTSTAMP:20260417T130544Z
URL:https://lehmhuus.ch/events/26190-glasurkurs-fokus-geschirrglasuren-mit
 -grit-uhlemann/
SUMMARY:26190 - Glasurkurs: Fokus Geschirrglasuren mit Grit Uhlemann
DESCRIPTION:Ihre Kursleiterin: Grit Uhlemann\n\nGrit Uhemann hat in Irland 
 Kunst studiert und Ihren Fokus auf „Skulptur und kombinierte Medien“ g
 elegt. Nach Ihrer Rückkehr nach Deutschland absolvierte Sie in Höhr-Gren
 zhausen erfolgreich die Ausbildung als Keramikgestalterin und legte in die
 sem Jahr die Meisterprüfung ab. Seit 2018 ist Sie auch Teil der Keramikgr
 uppe „Ceramix“ in Höhr-Grenzhausen und hat die Ausbildung zur Keramik
 technikerin erfolgreich abgeschlossen. Sie hatte bereits Ausstellungen in 
 Höhr-Grenzhausen\, Koblenz\, Gmunden\, Carouge und Sarreguimines. Des Wei
 teren ist Sie Vorsitzende des deutschen Keramikvereins „Kalkspatz“.\n\
 n[ngg src="galleries" ids="29" exclusions="392\,624\,700\,701\,702\,704\,7
 05\,706\,707\,708\,709\,710\,711\,712\,713\,714\,715\,716\,717\,872\,873\,
 874\,875\,876\,877\,878\,879\,880\,881\,882\,988\,989\,990\,991\,992" sort
 order="333\,335\,332\,334\,392" display="basic_thumbnail" thumbnail_crop="
 0"]Geeignet für Anfänger und Fortgeschrittene (max. 8 Personen)\n\nVideo
  über Grit: The Shape of Light: Ceramic Artists of Höhr-Grenzhausen\n\nI
 n diesem Kurs wird vermittelt\, was eine gute Geschirrglasur im Steinzeugb
 ereich ausmacht. Es wird gezeigt\, wie diese zusammengesetzt sein kann\, w
 ie man verschiedene Texturen von matt bis glänzend und von transparent bi
 s opak\, sowie verschiedene Farben erzielen kann. Ausserdem werden die Roh
 stoffe erklärt und die Theorie der Glasuren vermittelt. Die Lebensmittelt
 auglichkeit und die Ritzhärte können mit einfach durchzuführenden Tests
 \, beziehungsweise in der Auswahl der Rohstoffe garantiert werden. Gebrann
 t wird bei 1240°C im Elektroofen.\n\nEin Workshop für alle - ob Keramikk
 ünstler*innen\, Profis\, Lehrer* innen\, Therapeut*innen oder Beginner*in
 nen\, die Spass am Entwickeln von eigenen Glasuren haben.\n\nMitbringen: A
 rbeitskleidung\, Notizmaterial\, 35-40 rohgebrannte Musterplättchen L 10c
 m x B 3cm. Die Musterplättchen\, wenn möglich Steinzeugton aus der eigen
 en Werkstatt\, aus hell- bis graubrennendem Steinzeugton mit mind. Brennte
 mperatur 1240°C. Unsere Empfehlung G&amp\;S Ton Nr. 254 und Witgert Ton N
 r. 116.\n\nUnterrichtssprache: Deutsch\n\nIm Preis inbegriffen: Material\,
  Glasurrohstoffe\, Brennen der Arbeiten.\n\nLesen Sie hier die Anmeldebedi
 ngungen für Kurse!\n\nHier finden Sie Übernachtungsmöglichkeiten in der
  Nähe.
ATTACH;FMTTYPE=image/jpeg:https://lehmhuus.ch/wp-content/uploads/2022/08/G
 lasurentwicklung_2-1.jpg
CATEGORIES:Keramische Oberflächenkurse,Töpferkurse
LOCATION:LEHMHUUS Töpferschule\, Neuhofweg 50\, Aesch / BL\, 4147\, Schwei
 z
X-APPLE-STRUCTURED-LOCATION;VALUE=URI;X-ADDRESS=Neuhofweg 50\, Aesch / BL\,
  4147\, Schweiz;X-APPLE-RADIUS=100;X-TITLE=LEHMHUUS Töpferschule:geo:0,0
END:VEVENT
BEGIN:VTIMEZONE
TZID:Europe/Zurich
X-LIC-LOCATION:Europe/Zurich
BEGIN:STANDARD
DTSTART:20261025T020000
TZOFFSETFROM:+0200
TZOFFSETTO:+0100
TZNAME:CET
END:STANDARD
END:VTIMEZONE
END:VCALENDAR